BEGIN:VCALENDAR
VERSION:2.0
PRODID:-//ChamberMaster//Event Calendar 2.0//EN
METHOD:PUBLISH
X-PUBLISHED-TTL:P3D
REFRESH-INTERVAL:P3D
CALSCALE:GREGORIAN
BEGIN:VEVENT
DTSTART;VALUE=DATE:20130907
DTEND;VALUE=DATE:20130908
TRANSP:TRANSPARENT
X-MICROSOFT-CDO-ALLDAYEVENT:TRUE
SUMMARY:11th Annual Kerrville Professional Firefighters Golf Classic
DESCRIPTION:11th Annual Kerrville Professional Firefighters Golf Classic\n\nTo Benefit The Three-Alarm Fund*\n\n\n\nSPONSORSHIP OPPORTUNITIES STILL AVAILABLE\n\n\n\nEntry Fee: $100 Player\n\n                   $400 team of 4\n\n\n\nFormat: Florida Scramble\n\n\n\nContest: Closest to the Pin\, Longes Drive\, Hole in One\, & Putting Contest\n\n\n\nDress Attire: Collared Shirt\, Golf Attire (no steel spikes)\n\n\n\nAwards\, Prize Drawing and Winning Golf Ball Drop #s will be announced at the Clubhouse following the tournament. A Silent Auction will be held and dinner will be served at this location. \n\n    \n\nThe Three-Alarm Fund is set up to assist families in Kerr County who are burned out of their home with food\, clothing and shelter. Additionally\, this fund provides scholarships for local seniors and aids in community outreach projects. \n\n\n\nOnline Registration at www.local3230.org \n\nCredit Cards Accepted
X-ALT-DESC;FMTTYPE=text/html:11th Annual Kerrville Professional Firefighters Golf Classic<br />\nTo Benefit The Three-Alarm Fund*<br />\n<br />\nSPONSORSHIP OPPORTUNITIES STILL AVAILABLE<br />\n<br />\nEntry Fee: $100 Player<br />\n&nbsp\; &nbsp\; &nbsp\; &nbsp\; &nbsp\; &nbsp\; &nbsp\; &nbsp\; &nbsp\; &nbsp\;$400 team of 4<br />\n<br />\nFormat: Florida Scramble<br />\n<br />\nContest: Closest to the Pin\, Longes Drive\, Hole in One\, &amp\; Putting Contest<br />\n<br />\nDress Attire: Collared Shirt\, Golf Attire (no steel spikes)<br />\n<br />\nAwards\, Prize Drawing and Winning Golf Ball Drop #s will be announced at the Clubhouse following the tournament. A Silent Auction will be held and dinner will be served at this location.&nbsp\;<br />\n&nbsp\; &nbsp\;&nbsp\;<br />\nThe Three-Alarm Fund is set up to assist families in Kerr County who are burned out of their home with food\, clothing and shelter. Additionally\, this fund provides scholarships for local seniors and aids in community outreach projects.&nbsp\;<br />\n<br />\nOnline Registration at www.local3230.org&nbsp\;<br />\nCredit Cards Accepted&nbsp\;
LOCATION:Scott Schreiner Golf Course 1 Country Club Dr. Kerrville\, TX 78028
UID:e.1327.1073
SEQUENCE:3
DTSTAMP:20260419T151507Z
URL:https://business.kerrvillechamber.biz/events/details/11th-annual-kerrville-professional-firefighters-golf-classic-09-07-2013-1073
END:VEVENT

END:VCALENDAR
