BEGIN:VCALENDAR
VERSION:2.0
PRODID:-//ChamberMaster//Event Calendar 2.0//EN
METHOD:PUBLISH
X-PUBLISHED-TTL:P3D
REFRESH-INTERVAL:P3D
CALSCALE:GREGORIAN
BEGIN:VEVENT
DTSTART:20130615T170000Z
DTEND:20130615T220000Z
X-MICROSOFT-CDO-ALLDAYEVENT:FALSE
SUMMARY:17th Annual Dan Gatewood Memorial Golf Tournament/Sponsored by Kerrville Host Lions Club
DESCRIPTION:Limit 20 teams\n\n\n\nTeam prizes-CASH from $160 to $750\n\n\n\nCASH for longest\, straightest drive and longest putt\n\n\n\n$500 CASH for closest to pin (within 3 feet or less)
X-ALT-DESC;FMTTYPE=text/html:Limit 20 teams<br />\n<br />\nTeam prizes-<span style="color:#008000\;"><strong>CASH</strong></span> from $160 to $750<br />\n<br />\n<span style="color:#008000\;"><strong>CASH</strong></span> for longest\, straightest drive and longest putt<br />\n<br />\n<strong>$500</strong> <span style="color:#008000\;"><strong>CASH</strong></span> for closest to pin (within 3 feet or less)<br />\n<br />\n
LOCATION:Riverhill Country Club
UID:e.1327.959
SEQUENCE:3
DTSTAMP:20260419T202641Z
URL:https://business.kerrvillechamber.biz/events/details/17th-annual-dan-gatewood-memorial-golf-tournament-sponsored-by-kerrville-host-lions-club-06-15-2013-959
END:VEVENT

END:VCALENDAR
