BEGIN:VCALENDAR
VERSION:2.0
PRODID:-//ChamberMaster//Event Calendar 2.0//EN
METHOD:PUBLISH
X-PUBLISHED-TTL:P3D
REFRESH-INTERVAL:P3D
CALSCALE:GREGORIAN
BEGIN:VEVENT
DTSTART;VALUE=DATE:20130401
DTEND;VALUE=DATE:20130402
TRANSP:TRANSPARENT
X-MICROSOFT-CDO-ALLDAYEVENT:TRUE
SUMMARY:18th Annual Chamber Golf Tournament
DESCRIPTION:Entry Fees Include:\n\nOne Mulligan\, Practice Balls\, Longest & Straightest Drive\, Closest to the Pin Contests & Winner's Cup\n\n\n\nPrizes Include:\n\n   1st\, 2nd & 3rd Place Low Net\n\n   1st & 2nd Place Low Gross\n\n  High Gross
X-ALT-DESC;FMTTYPE=text/html:Entry Fees Include:<br />\nOne Mulligan\, Practice Balls\, Longest &amp\; Straightest Drive\, Closest to the Pin Contests &amp\; Winner&#39\;s Cup<br />\n<br />\nPrizes Include:<br />\n&nbsp\;&nbsp\;&nbsp\;1st\, 2nd &amp\; 3rd Place Low Net<br />\n&nbsp\;&nbsp\;&nbsp\;1st &amp\; 2nd Place Low Gross<br />\n&nbsp\;&nbsp\;High Gross<br />\n<br />\n
LOCATION:Riverhill Country Club
UID:e.1327.426
SEQUENCE:3
DTSTAMP:20260419T224848Z
URL:https://business.kerrvillechamber.biz/events/details/18th-annual-chamber-golf-tournament-04-01-2013-426
END:VEVENT

END:VCALENDAR
