BEGIN:VCALENDAR
VERSION:2.0
PRODID:-//ChamberMaster//Event Calendar 2.0//EN
METHOD:PUBLISH
X-PUBLISHED-TTL:P3D
REFRESH-INTERVAL:P3D
CALSCALE:GREGORIAN
BEGIN:VEVENT
DTSTART:20130305T230000Z
DTEND:20130306T010000Z
X-MICROSOFT-CDO-ALLDAYEVENT:FALSE
SUMMARY:1st Tuesday Leadership Kerr County Mixer
DESCRIPTION:1st Tuesday Leadership Kerr County Mixer sponsored by Kerrville Folk Festival.
X-ALT-DESC;FMTTYPE=text/html:1st Tuesday Leadership Kerr County Mixer sponsored by Kerrville Folk Festival. 
LOCATION:Grape Juice
UID:e.1327.586
SEQUENCE:3
DTSTAMP:20260420T002415Z
URL:https://business.kerrvillechamber.biz/events/details/1st-tuesday-leadership-kerr-county-mixer-03-05-2013-586
END:VEVENT

END:VCALENDAR
