BEGIN:VCALENDAR
VERSION:2.0
PRODID:-//ChamberMaster//Event Calendar 2.0//EN
METHOD:PUBLISH
X-PUBLISHED-TTL:P3D
REFRESH-INTERVAL:P3D
CALSCALE:GREGORIAN
BEGIN:VEVENT
DTSTART:20131105T230000Z
DTEND:20131106T010000Z
X-MICROSOFT-CDO-ALLDAYEVENT:FALSE
SUMMARY:1st Tuesday Leadership Kerr County Mixer
DESCRIPTION:1st Tuesday Leadership Kerr County Mixer
X-ALT-DESC;FMTTYPE=text/html:1st Tuesday Leadership Kerr County Mixer
LOCATION:Grape Juice
UID:e.1327.601
SEQUENCE:3
DTSTAMP:20260419T135028Z
URL:https://business.kerrvillechamber.biz/events/details/1st-tuesday-leadership-kerr-county-mixer-11-05-2013-601
END:VEVENT

END:VCALENDAR
