BEGIN:VCALENDAR
VERSION:2.0
PRODID:-//ChamberMaster//Event Calendar 2.0//EN
METHOD:PUBLISH
X-PUBLISHED-TTL:P3D
REFRESH-INTERVAL:P3D
CALSCALE:GREGORIAN
BEGIN:VEVENT
DTSTART;VALUE=DATE:20150330
DTEND;VALUE=DATE:20150331
TRANSP:TRANSPARENT
X-MICROSOFT-CDO-ALLDAYEVENT:TRUE
SUMMARY:20th Annual Chamber of Commerce Golf Tournament
DESCRIPTION:20th Annual Chamber of Commerce Golf Tournament
X-ALT-DESC;FMTTYPE=text/html:20th Annual Chamber of Commerce Golf Tournament
LOCATION:Comanche Trace Golf Course\, 2801 Comanche Trace Dr.
UID:e.1327.4403
SEQUENCE:3
DTSTAMP:20260423T215927Z
URL:https://business.kerrvillechamber.biz/events/details/20th-annual-chamber-of-commerce-golf-tournament-03-30-2015-4403
END:VEVENT

END:VCALENDAR
