BEGIN:VCALENDAR
VERSION:2.0
PRODID:-//ChamberMaster//Event Calendar 2.0//EN
METHOD:PUBLISH
X-PUBLISHED-TTL:P3D
REFRESH-INTERVAL:P3D
CALSCALE:GREGORIAN
BEGIN:VEVENT
DTSTART;VALUE=DATE:20160321
DTEND;VALUE=DATE:20160322
TRANSP:TRANSPARENT
X-MICROSOFT-CDO-ALLDAYEVENT:TRUE
SUMMARY:21st Annual Chamber of Commerce Golf Tournament
DESCRIPTION:21st Annual Chamber of Commerce Golf Tournament
X-ALT-DESC;FMTTYPE=text/html:21st Annual Chamber of Commerce Golf Tournament
LOCATION:Scott Schreiner Golf Course
UID:e.1327.8204
SEQUENCE:3
DTSTAMP:20260422T225108Z
URL:https://business.kerrvillechamber.biz/events/details/21st-annual-chamber-of-commerce-golf-tournament-03-21-2016-8204
END:VEVENT

END:VCALENDAR
