BEGIN:VCALENDAR
VERSION:2.0
PRODID:-//ChamberMaster//Event Calendar 2.0//EN
METHOD:PUBLISH
X-PUBLISHED-TTL:P3D
REFRESH-INTERVAL:P3D
CALSCALE:GREGORIAN
BEGIN:VEVENT
DTSTART:20130530T233000Z
DTEND:20130531T003000Z
X-MICROSOFT-CDO-ALLDAYEVENT:FALSE
SUMMARY:2nd Annual Bill 'Mr. Habitat' Oliver Concert
DESCRIPTION:Bill Oliver\, "Mr. Habitat\," returns to the Riverside Nature Center stage for a second year to deliver his environmental and motivating message in a fun\, humorous package.  He frequently performs at the Kerrville Folk Festival and is host for the Kids Concerts at the KFF. Pegged as an "environmental troubadour" by TIME magazine in 1989\, Oliver hits the spot with his versatility.
X-ALT-DESC;FMTTYPE=text/html:<p class="MsoNormal">\n	Bill Oliver\, &ldquo\;Mr. Habitat\,&rdquo\; returns to the Riverside Nature Center stage for a second year to deliver his environmental and motivating message in a fun\, humorous package.&nbsp\;&nbsp\;He frequently performs at the Kerrville Folk Festival and is host for the Kids Concerts at the KFF. Pegged as an &ldquo\;environmental troubadour&rdquo\; by TIME magazine in 1989\, Oliver hits the spot with his versatility.</p>\n
LOCATION:Riverside Nature Center\, 150 Francisco Lemos St.\, Kerrville
UID:e.1327.949
SEQUENCE:3
DTSTAMP:20260419T213548Z
URL:https://business.kerrvillechamber.biz/events/details/2nd-annual-bill-mr-habitat-oliver-concert-05-30-2013-949
END:VEVENT

END:VCALENDAR
