BEGIN:VCALENDAR
VERSION:2.0
PRODID:-//ChamberMaster//Event Calendar 2.0//EN
METHOD:PUBLISH
X-PUBLISHED-TTL:P3D
REFRESH-INTERVAL:P3D
CALSCALE:GREGORIAN
BEGIN:VEVENT
DTSTART:20250809T160000Z
DTEND:20250809T180000Z
X-MICROSOFT-CDO-ALLDAYEVENT:FALSE
SUMMARY:2nd Saturday Nature Talks w/ Laura Levy: Birds of Prey
DESCRIPTION:This month\, we're excited to explore the fascinating world of birds of prey. While you're with us\, don't forget to treat yourself to an iced latte and a delicious lunch from The Art House Caf .
X-ALT-DESC;FMTTYPE=text/html:<p><strong>This month\, we&rsquo\;re excited to explore the fascinating world of birds of prey. While you&rsquo\;re with us\, don&rsquo\;t forget to treat yourself to an iced latte and a delicious lunch from The Art House Caf&eacute\;.</strong></p>\n\n<p>&nbsp\;</p>\n\n<p>&nbsp\;</p>\n
LOCATION:River Oaks Courts The Art House Caf 14349 Highway 16 N. ?Medina\, TX 78055
UID:e.1327.29200
SEQUENCE:3
DTSTAMP:20260423T195355Z
URL:https://business.kerrvillechamber.biz/events/details/2nd-saturday-nature-talks-w-laura-levy-birds-of-prey-29200
END:VEVENT

END:VCALENDAR
