BEGIN:VCALENDAR
VERSION:2.0
PRODID:-//ChamberMaster//Event Calendar 2.0//EN
METHOD:PUBLISH
X-PUBLISHED-TTL:P3D
REFRESH-INTERVAL:P3D
CALSCALE:GREGORIAN
BEGIN:VEVENT
DTSTART;VALUE=DATE:20130427
DTEND;VALUE=DATE:20130601
TRANSP:TRANSPARENT
X-MICROSOFT-CDO-ALLDAYEVENT:TRUE
SUMMARY:30 Years of Western Splendor
DESCRIPTION:Celebrating 30 years of Western Art in the Hill Country\n\n	Art Sale
X-ALT-DESC;FMTTYPE=text/html:<p>\n	<span style="color: #ff8c00"><em><strong>Celebrating 30 years of Western Art in the Hill Country</strong></em></span><br />\n	Art Sale</p>\n
LOCATION:The Museum of Western Art 1550 Bandera Hwy
UID:e.1327.920
SEQUENCE:3
DTSTAMP:20260419T213601Z
URL:https://business.kerrvillechamber.biz/events/details/30-years-of-western-splendor-04-27-2013-920
END:VEVENT

END:VCALENDAR
