BEGIN:VCALENDAR
VERSION:2.0
PRODID:-//ChamberMaster//Event Calendar 2.0//EN
METHOD:PUBLISH
X-PUBLISHED-TTL:P3D
REFRESH-INTERVAL:P3D
CALSCALE:GREGORIAN
BEGIN:VEVENT
DTSTART:20131010T230000Z
DTEND:20131011T003000Z
X-MICROSOFT-CDO-ALLDAYEVENT:FALSE
SUMMARY:A Constitutional Amendment Forum presented by the League of Women Voters - Kerrville Area
DESCRIPTION:A Constitutional Ammendment Forum sponsored by the League of Women Voters - Kerrville Area will be presented by community members knowledgeable of each specific ammendment presenting information in a five to seven minute timeframe.  Attendees from the community can submit written questions for a response by the presenter.\n\nPlease see the eight page constitutional voter's guide at http://www.lwvtexas.org/ as reference prior to the amendment forum.  Bring your questions and learn what the ammendments are all about in preparation for the November 5th election.  Free and open to all.
X-ALT-DESC;FMTTYPE=text/html:A Constitutional Ammendment Forum sponsored by the League of Women Voters - Kerrville Area will be presented by community members knowledgeable of each specific ammendment presenting information in a five to seven minute timeframe.&nbsp\; Attendees from the community can submit written questions for a response by the presenter.<br />\nPlease see the eight page constitutional voter&#39\;s guide at http://www.lwvtexas.org/ as reference prior to the amendment forum.&nbsp\; Bring your questions and learn what the ammendments are all about in preparation for the November 5th election.&nbsp\; Free and open to all.&nbsp\; 
LOCATION:KPUB Board Room at the Utility Board offices located at 2250 Memorial Blvd. The meeting site is accessible to handicapped persons.
UID:e.1327.1355
SEQUENCE:3
DTSTAMP:20260419T151958Z
URL:https://business.kerrvillechamber.biz/events/details/a-constitutional-amendment-forum-presented-by-the-league-of-women-voters-kerrville-area-10-10-2013-1355
END:VEVENT

END:VCALENDAR
