BEGIN:VCALENDAR
VERSION:2.0
PRODID:-//ChamberMaster//Event Calendar 2.0//EN
METHOD:PUBLISH
X-PUBLISHED-TTL:P3D
REFRESH-INTERVAL:P3D
CALSCALE:GREGORIAN
BEGIN:VEVENT
DTSTART:20130126T010000Z
DTEND:20130126T030000Z
X-MICROSOFT-CDO-ALLDAYEVENT:FALSE
SUMMARY:AACTFEST-Love\,Loss\, and What I Wore
DESCRIPTION:Scenes from Love\, Loss\, and What I Wore. A play of monologues and ensemble pieces about women\, clothes and memory covering all the important subjects-mothers\, prom dresses\, mothers\, buying bras\, mothers\, hating purses and why we only wear black. Based on the bestselling book by Ilene Beckerman. . For Additional information please call 830-367-5121 or visit www.hcaf.com\n\n	Kathleen C. Cailloux Theater\, 910 Main St.
X-ALT-DESC;FMTTYPE=text/html:<p>\n	Scenes from Love\, Loss\, and What I Wore. A play of monologues and ensemble pieces about women\, clothes and memory covering all the important subjects-mothers\, prom dresses\, mothers\, buying bras\, mothers\, hating purses and why we only wear black. Based on the bestselling book by Ilene Beckerman. . For Additional information please call 830-367-5121 or visit <a class="external" href="http://www.hcaf.com/" target="_blank">www.hcaf.com</a></p>\n<p>\n	Kathleen C. Cailloux Theater\, 910 Main St.</p>\n
LOCATION:
UID:e.1327.460
SEQUENCE:3
DTSTAMP:20260420T035438Z
URL:https://business.kerrvillechamber.biz/events/details/aactfest-love-loss-and-what-i-wore-01-25-2013-460
END:VEVENT

END:VCALENDAR
