BEGIN:VCALENDAR
VERSION:2.0
PRODID:-//ChamberMaster//Event Calendar 2.0//EN
METHOD:PUBLISH
X-PUBLISHED-TTL:P3D
REFRESH-INTERVAL:P3D
CALSCALE:GREGORIAN
BEGIN:VEVENT
DTSTART:20251010T220000Z
DTEND:20251011T010000Z
X-MICROSOFT-CDO-ALLDAYEVENT:FALSE
SUMMARY:After Hours at Turtle Creek Vineyard
DESCRIPTION:From 5pm-8pm\, immerse yourself in a delightful musical experience featuring a diverse lineup of talented local artists. Relax and unwind as you savor the sounds of our vibrant music scene against the picturesque backdrop of the vineyard.
X-ALT-DESC;FMTTYPE=text/html:From 5pm-8pm\, immerse yourself in a delightful musical experience featuring a diverse&nbsp\;lineup of talented local&nbsp\;artists. Relax and unwind as you savor the sounds of our vibrant music scene against the picturesque backdrop of the vineyard.
LOCATION:Turtle Creek Vineyard 183 Fall Creek Road Kerrville\, TX 78028
UID:e.1327.29209
SEQUENCE:3
DTSTAMP:20260423T182058Z
URL:https://business.kerrvillechamber.biz/events/details/after-hours-at-turtle-creek-vineyard-10-10-2025-29209
END:VEVENT

END:VCALENDAR
