BEGIN:VCALENDAR
VERSION:2.0
PRODID:-//ChamberMaster//Event Calendar 2.0//EN
METHOD:PUBLISH
X-PUBLISHED-TTL:P3D
REFRESH-INTERVAL:P3D
CALSCALE:GREGORIAN
BEGIN:VEVENT
DTSTART:20250815T220000Z
DTEND:20250816T010000Z
X-MICROSOFT-CDO-ALLDAYEVENT:FALSE
SUMMARY:After Hours at Turtle Creek Vineyard
DESCRIPTION:From 5pm-8pm\, immerse yourself in a delightful musical experience featuring a diverse lineup of talented local artists. Relax and unwind as you savor the sounds of our vibrant music scene against the picturesque backdrop of the vineyard.
X-ALT-DESC;FMTTYPE=text/html:From 5pm-8pm\, immerse yourself in a delightful musical experience featuring a diverse&nbsp\;lineup of talented local&nbsp\;artists. Relax and unwind as you savor the sounds of our vibrant music scene against the picturesque backdrop of the vineyard.
LOCATION:Turtle Creek Vineyard 183 Fall Creek Road Kerrville\, TX 78028
UID:e.1327.29205
SEQUENCE:3
DTSTAMP:20260423T212819Z
URL:https://business.kerrvillechamber.biz/events/details/after-hours-at-turtle-creek-vineyard-29205
END:VEVENT

END:VCALENDAR
