BEGIN:VCALENDAR
VERSION:2.0
PRODID:-//ChamberMaster//Event Calendar 2.0//EN
METHOD:PUBLISH
X-PUBLISHED-TTL:P3D
REFRESH-INTERVAL:P3D
CALSCALE:GREGORIAN
BEGIN:VEVENT
DTSTART:20250620T170000Z
DTEND:20250620T173000Z
X-MICROSOFT-CDO-ALLDAYEVENT:FALSE
SUMMARY:RIBBON CUTTING - Alien Toy Box
DESCRIPTION:KACOC RIBBON CUTTING for Alien Toy Box
X-ALT-DESC;FMTTYPE=text/html:<span style="color: rgb(51\, 51\, 51)\; font-family: sans-serif\, Arial\, Verdana\, &quot\;Trebuchet MS&quot\;\; font-size: 13px\; background-color: rgb(255\, 255\, 255)\;">KACOC RIBBON CUTTING for Alien Toy Box</span>
LOCATION:727 Hill Country Dr\, Kerrville
UID:e.1327.29161
SEQUENCE:3
DTSTAMP:20260424T010027Z
URL:https://business.kerrvillechamber.biz/events/details/alien-toy-box-29161
END:VEVENT

END:VCALENDAR
