BEGIN:VCALENDAR
VERSION:2.0
PRODID:-//ChamberMaster//Event Calendar 2.0//EN
METHOD:PUBLISH
X-PUBLISHED-TTL:P3D
REFRESH-INTERVAL:P3D
CALSCALE:GREGORIAN
BEGIN:VEVENT
DTSTART:20131212T124500Z
DTEND:20131212T140000Z
X-MICROSOFT-CDO-ALLDAYEVENT:FALSE
SUMMARY:Annual Chamber Holiday Breakfast
DESCRIPTION:Annual Chamber Holiday Breakfast    \n\nRSVP Required 896-1155\n\n$15 Breakfast Ticket
X-ALT-DESC;FMTTYPE=text/html:Annual Chamber Holiday Breakfast&nbsp\;&nbsp\;&nbsp\;&nbsp\;<br />\nRSVP Required 896-1155<br />\n$15 Breakfast Ticket
LOCATION:Sponsored by & held at Schreiner University Cailloux Ballroom 2100 Memorial Blvd
UID:e.1327.527
SEQUENCE:3
DTSTAMP:20260419T121437Z
URL:https://business.kerrvillechamber.biz/events/details/annual-chamber-holiday-breakfast-12-12-2013-527
END:VEVENT

END:VCALENDAR
