BEGIN:VCALENDAR
VERSION:2.0
PRODID:-//ChamberMaster//Event Calendar 2.0//EN
METHOD:PUBLISH
X-PUBLISHED-TTL:P3D
REFRESH-INTERVAL:P3D
CALSCALE:GREGORIAN
BEGIN:VEVENT
DTSTART:20121213T124500Z
DTEND:20121213T140000Z
X-MICROSOFT-CDO-ALLDAYEVENT:FALSE
SUMMARY:Annual Holiday Breakfast
DESCRIPTION:Come and join us for the Kerrville Area Chamber of Commerce Annual Holiday Breakfast\, Thursday December 13th!\n\n	\n\n	This takes the place of our monthly Business-After Hours mixer for December. Don't miss out on celebrating the holidays with your fellow Chamber Members & Santa!\n\n	\n\n	Sponsored by and held at The Salvation Army Ray and Joan Kroc Corps Community Center\, 201 Holdsworth Dr.\n\n	\n\n	Coffee begins at 6:45 am\, Breakfast is served at 7:00 am.\n\n	\n\n	Reservations Required\, RSVP to 896-1155 or allison@kerrvilletx.com\n\n	\n\n	See you there!
X-ALT-DESC;FMTTYPE=text/html:<p>\n	<strong>Come and join us for the Kerrville Area Chamber of Commerce Annual Holiday Breakfast\, Thursday December 13th!</strong><br />\n	<br />\n	<strong>This takes the place of our monthly Business-After Hours mixer for December. Don&#39\;t miss out on celebrating the holidays with your fellow Chamber Members &amp\; Santa!</strong><br />\n	<br />\n	<strong>Sponsored by and held at The Salvation Army Ray and Joan Kroc Corps Community Center\, 201 Holdsworth Dr.</strong><br />\n	<br />\n	<strong>Coffee begins at 6:45 am\, Breakfast is served at 7:00 am.</strong><br />\n	<br />\n	<strong><span style="text-decoration: underline">Reservations Required</span>\, RSVP to 896-1155 or allison@kerrvilletx.com</strong><br />\n	<br />\n	<strong>See you there! </strong></p>\n
LOCATION:
UID:e.1327.27
SEQUENCE:3
DTSTAMP:20260420T053308Z
URL:https://business.kerrvillechamber.biz/events/details/annual-holiday-breakfast-12-13-2012-27
END:VEVENT

END:VCALENDAR
