BEGIN:VCALENDAR
VERSION:2.0
PRODID:-//ChamberMaster//Event Calendar 2.0//EN
METHOD:PUBLISH
X-PUBLISHED-TTL:P3D
REFRESH-INTERVAL:P3D
CALSCALE:GREGORIAN
BEGIN:VEVENT
DTSTART:20130512T150000Z
DTEND:20130602T210000Z
X-MICROSOFT-CDO-ALLDAYEVENT:FALSE
SUMMARY:Aqueous Abstractions
DESCRIPTION:Aqueous Abstractions\, new abstract water-media paintings
X-ALT-DESC;FMTTYPE=text/html:Aqueous Abstractions\, new abstract water-media paintings
LOCATION:Kerr Arts & Cultural Center\, 228 Earl Garrett St.
UID:e.1327.926
SEQUENCE:3
DTSTAMP:20260419T212409Z
URL:https://business.kerrvillechamber.biz/events/details/aqueous-abstractions-05-12-2013-926
END:VEVENT

END:VCALENDAR
