BEGIN:VCALENDAR
VERSION:2.0
PRODID:-//ChamberMaster//Event Calendar 2.0//EN
METHOD:PUBLISH
X-PUBLISHED-TTL:P3D
REFRESH-INTERVAL:P3D
CALSCALE:GREGORIAN
BEGIN:VEVENT
DTSTART:20130808T140000Z
DTEND:20130808T210000Z
X-MICROSOFT-CDO-ALLDAYEVENT:FALSE
SUMMARY:Art camp museum
DESCRIPTION:For additional information please call 830-367-5120 or visit http://www.hcaf.com. \n	\n	\n		\n			The Gallery at the Point\, Hwy 39\, Ingram
X-ALT-DESC;FMTTYPE=text/html:<div style="color: gray">\n	<div class="OutlineElement Ltr SCX19982967" style="text-indent: 0px\; margin-left: 0px">\n		<p class="Paragraph SCX19982967" paraeid="{09824822-e336-4b55-a542-5db158c60902}{107}" paraid="1641062006" style="text-align: left\; background-color: transparent\; font-style: normal\; text-indent: 0px\; font-family: 'Segoe UI'\, Tahoma\, Verdana\, 'Sans-Serif'\; color: windowtext\; font-size: 6pt\; vertical-align: baseline\; font-weight: normal">\n			<span class="TextRun SCX19982967" style="line-height: 19px\; font-style: italic\; font-family: Cambria\, Serif\; font-size: 12pt" xml:lang="EN-US"><span class="NormalTextRun SCX19982967" style="background-color: inherit">For additional information please call 830-367-5120 or visit&#8239\;</span></span><a class="Hyperlink SCX19982967" href="http://www.hcaf.com/" style="text-decoration: none"><span class="TextRun Underlined SCX19982967" style="line-height: 19px\; font-style: italic\; font-family: Cambria\, Serif\; color: #0000ff\; font-size: 12pt\; text-decoration: underline" xml:lang="EN-US"><span class="NormalTextRun SCX19982967" style="background-color: inherit">http://www.hcaf.com</span></span></a><span class="TextRun SCX19982967" style="line-height: 19px\; font-style: italic\; font-family: Cambria\, Serif\; font-size: 12pt" xml:lang="EN-US"><span class="NormalTextRun SCX19982967" style="background-color: inherit">.</span></span><span class="EOP SCX19982967" style="line-height: 19px\; font-family: Cambria\, Serif\; font-size: 12pt">&nbsp\;</span></p>\n	</div>\n	<div class="OutlineElement Ltr SCX19982967" style="text-indent: 0px\; margin-left: 0px">\n		<p class="Paragraph SCX19982967" paraeid="{09824822-e336-4b55-a542-5db158c60902}{110}" paraid="241517571" style="text-align: left\; background-color: transparent\; font-style: normal\; text-indent: 0px\; font-family: 'Segoe UI'\, Tahoma\, Verdana\, 'Sans-Serif'\; color: windowtext\; font-size: 6pt\; vertical-align: baseline\; font-weight: normal">\n			<span class="TextRun SCX19982967" style="line-height: 19px\; font-style: italic\; font-family: Cambria\, Serif\; font-size: 12pt" xml:lang="EN-US"><span class="NormalTextRun SCX19982967" style="background-color: inherit">The Gallery at the Point\, Hwy 39\, Ingram</span></span></p>\n	</div>\n</div>\n
LOCATION:
UID:e.1327.1004
SEQUENCE:3
DTSTAMP:20260419T180636Z
URL:https://business.kerrvillechamber.biz/events/details/art-camp-museum-08-08-2013-1004
END:VEVENT

END:VCALENDAR
