BEGIN:VCALENDAR
VERSION:2.0
PRODID:-//ChamberMaster//Event Calendar 2.0//EN
METHOD:PUBLISH
X-PUBLISHED-TTL:P3D
REFRESH-INTERVAL:P3D
CALSCALE:GREGORIAN
BEGIN:VEVENT
DTSTART:20130511T140000Z
DTEND:20130511T210000Z
X-MICROSOFT-CDO-ALLDAYEVENT:FALSE
SUMMARY:Art In The Hill Country
DESCRIPTION:Art In The Hill Country
X-ALT-DESC;FMTTYPE=text/html:Art In The Hill Country
LOCATION:The Gallery at the Point\, Hwy. 39\, Ingram Texas
UID:e.1327.916
SEQUENCE:3
DTSTAMP:20260419T213639Z
URL:https://business.kerrvillechamber.biz/events/details/art-in-the-hill-country-05-11-2013-916
END:VEVENT

END:VCALENDAR
