BEGIN:VCALENDAR
VERSION:2.0
PRODID:-//ChamberMaster//Event Calendar 2.0//EN
METHOD:PUBLISH
X-PUBLISHED-TTL:P3D
REFRESH-INTERVAL:P3D
CALSCALE:GREGORIAN
BEGIN:VEVENT
DTSTART:20130620T153000Z
DTEND:20130620T160000Z
X-MICROSOFT-CDO-ALLDAYEVENT:FALSE
SUMMARY:Back 40 Trailers Ribbon Cutting
DESCRIPTION:Ribbon cutting for Back 40 Trailers \n\nThursday\, June 20\, 10:30 am
X-ALT-DESC;FMTTYPE=text/html:Ribbon cutting for Back 40 Trailers&nbsp\;<br />\nThursday\, June 20\, 10:30 am
LOCATION:3120 Memorial Blvd.
UID:e.1327.961
SEQUENCE:3
DTSTAMP:20260419T212608Z
URL:https://business.kerrvillechamber.biz/events/details/back-40-trailers-ribbon-cutting-06-20-2013-961
END:VEVENT

END:VCALENDAR
