BEGIN:VCALENDAR
VERSION:2.0
PRODID:-//ChamberMaster//Event Calendar 2.0//EN
METHOD:PUBLISH
X-PUBLISHED-TTL:P3D
REFRESH-INTERVAL:P3D
CALSCALE:GREGORIAN
BEGIN:VEVENT
DTSTART:20130205T220000Z
DTEND:20130205T230000Z
X-MICROSOFT-CDO-ALLDAYEVENT:FALSE
SUMMARY:Basic Estate Tax Planning Seminar
DESCRIPTION:Basic Estate Tax Planning\, Speaker Gary E. Kersey Attorney at Law\n\n\n\nClick Here for more information
X-ALT-DESC;FMTTYPE=text/html:Basic Estate Tax Planning\, Speaker Gary E. Kersey Attorney at Law<br />\n<br />\n<a href="http://cloud.chambermaster.com/userfiles/UserFiles/chambers/1327/File/BASICESTATEPLANNINGINFORMATION.pdf">Click Here for more information</a>
LOCATION:Kerrville Area Chamber of Commerce\, 1700 Sidney Baker\, Ste. 100
UID:e.1327.511
SEQUENCE:3
DTSTAMP:20260420T021127Z
URL:https://business.kerrvillechamber.biz/events/details/basic-estate-tax-planning-seminar-02-05-2013-511
END:VEVENT

END:VCALENDAR
