BEGIN:VCALENDAR
VERSION:2.0
PRODID:-//ChamberMaster//Event Calendar 2.0//EN
METHOD:PUBLISH
X-PUBLISHED-TTL:P3D
REFRESH-INTERVAL:P3D
CALSCALE:GREGORIAN
BEGIN:VEVENT
DTSTART:20250905T170000Z
DTEND:20250905T173000Z
X-MICROSOFT-CDO-ALLDAYEVENT:FALSE
SUMMARY:Bella Luz
DESCRIPTION:KACOC Bella Luz Ribbon Cutting
X-ALT-DESC;FMTTYPE=text/html:KACOC Bella Luz Ribbon Cutting
LOCATION:117 Hugo St\, Kerrville\, TX 78028\,
UID:e.1327.29215
SEQUENCE:3
DTSTAMP:20260423T181642Z
URL:https://business.kerrvillechamber.biz/events/details/bella-luz-29215
END:VEVENT

END:VCALENDAR
