BEGIN:VCALENDAR
VERSION:2.0
PRODID:-//ChamberMaster//Event Calendar 2.0//EN
METHOD:PUBLISH
X-PUBLISHED-TTL:P3D
REFRESH-INTERVAL:P3D
CALSCALE:GREGORIAN
BEGIN:VEVENT
DTSTART:20260226T180000Z
DTEND:20260226T190000Z
X-MICROSOFT-CDO-ALLDAYEVENT:FALSE
SUMMARY:Black History Month with Clifton Fifer
DESCRIPTION:Join us for a presentation by Clifton Fifer\, going over topics like black cowboy history and contributions of the black community in Kerrville.
X-ALT-DESC;FMTTYPE=text/html:Join us for a presentation by Clifton Fifer\, going over topics like black cowboy history and contributions of the black community in Kerrville.&nbsp\;
LOCATION:Kerrville Kroc Center Chapel
UID:e.1327.29287
SEQUENCE:3
DTSTAMP:20260423T105224Z
URL:https://business.kerrvillechamber.biz/events/details/black-history-month-with-clifton-fifer-29287
END:VEVENT

END:VCALENDAR
