BEGIN:VCALENDAR
VERSION:2.0
PRODID:-//ChamberMaster//Event Calendar 2.0//EN
METHOD:PUBLISH
X-PUBLISHED-TTL:P3D
REFRESH-INTERVAL:P3D
CALSCALE:GREGORIAN
BEGIN:VEVENT
DTSTART:20130310T140000Z
DTEND:20130310T173000Z
X-MICROSOFT-CDO-ALLDAYEVENT:FALSE
SUMMARY:Blood Drive
DESCRIPTION:South Texas Blood & Tissue Center Blood Drive
X-ALT-DESC;FMTTYPE=text/html:South Texas Blood &amp\; Tissue Center Blood Drive
LOCATION:FUMC - Boerne Family Life Center
UID:e.1327.657
SEQUENCE:3
DTSTAMP:20260420T002012Z
URL:https://business.kerrvillechamber.biz/events/details/blood-drive-03-10-2013-657
END:VEVENT

END:VCALENDAR
