BEGIN:VCALENDAR
VERSION:2.0
PRODID:-//ChamberMaster//Event Calendar 2.0//EN
METHOD:PUBLISH
X-PUBLISHED-TTL:P3D
REFRESH-INTERVAL:P3D
CALSCALE:GREGORIAN
BEGIN:VEVENT
DTSTART:20130316T150000Z
DTEND:20130316T180000Z
X-MICROSOFT-CDO-ALLDAYEVENT:FALSE
SUMMARY:Blood Drive
DESCRIPTION:South Texas Blood & Tissue Center Blood Drive
X-ALT-DESC;FMTTYPE=text/html:South Texas Blood &amp\; Tissue Center Blood Drive
LOCATION:Outdoor Family Fair: Boerne\, Main Plaza
UID:e.1327.663
SEQUENCE:3
DTSTAMP:20260420T002018Z
URL:https://business.kerrvillechamber.biz/events/details/blood-drive-03-16-2013-663
END:VEVENT

END:VCALENDAR
