BEGIN:VCALENDAR
VERSION:2.0
PRODID:-//ChamberMaster//Event Calendar 2.0//EN
METHOD:PUBLISH
X-PUBLISHED-TTL:P3D
REFRESH-INTERVAL:P3D
CALSCALE:GREGORIAN
BEGIN:VEVENT
DTSTART:20130327T120000Z
DTEND:20130327T143000Z
X-MICROSOFT-CDO-ALLDAYEVENT:FALSE
SUMMARY:Blood Drive
DESCRIPTION:South Texas Blood & Tissue Center Blood Drive
X-ALT-DESC;FMTTYPE=text/html:South Texas Blood &amp\; Tissue Center Blood Drive
LOCATION:TXDOT parking lot\, Kerrville
UID:e.1327.666
SEQUENCE:3
DTSTAMP:20260420T021126Z
URL:https://business.kerrvillechamber.biz/events/details/blood-drive-03-27-2013-666
END:VEVENT

END:VCALENDAR
