BEGIN:VCALENDAR
VERSION:2.0
PRODID:-//ChamberMaster//Event Calendar 2.0//EN
METHOD:PUBLISH
X-PUBLISHED-TTL:P3D
REFRESH-INTERVAL:P3D
CALSCALE:GREGORIAN
BEGIN:VEVENT
DTSTART:20130108T174500Z
DTEND:20130108T190000Z
X-MICROSOFT-CDO-ALLDAYEVENT:FALSE
SUMMARY:Board of Directors Meeting
DESCRIPTION:Monthly Board Meeting
X-ALT-DESC;FMTTYPE=text/html:<p>\n	Monthly Board Meeting&nbsp\;&nbsp\;&nbsp\;&nbsp\;&nbsp\;&nbsp\;&nbsp\;&nbsp\;</p>\n
LOCATION:1700 Sidney Baker St Suite 100
UID:e.1327.386
SEQUENCE:3
DTSTAMP:20260420T035549Z
URL:https://business.kerrvillechamber.biz/events/details/board-of-directors-meeting-01-08-2013-386
END:VEVENT

END:VCALENDAR
