BEGIN:VCALENDAR
VERSION:2.0
PRODID:-//ChamberMaster//Event Calendar 2.0//EN
METHOD:PUBLISH
X-PUBLISHED-TTL:P3D
REFRESH-INTERVAL:P3D
CALSCALE:GREGORIAN
BEGIN:VEVENT
DTSTART:20141118T203000Z
DTEND:20141118T210000Z
X-MICROSOFT-CDO-ALLDAYEVENT:FALSE
SUMMARY:Brookdale Ribbon Cutting
DESCRIPTION:Ribbon Cutting Celebrating Brookdale Kerrville (formerly Sterling House of Kerrville)\, 725 Leslie Drive beginning at 2:30 pm
X-ALT-DESC;FMTTYPE=text/html:Ribbon Cutting Celebrating Brookdale Kerrville (formerly Sterling House of Kerrville)\, 725 Leslie Drive beginning at 2:30 pm
LOCATION:
UID:e.1327.4049
SEQUENCE:3
DTSTAMP:20260424T044121Z
URL:https://business.kerrvillechamber.biz/events/details/brookdale-ribbon-cutting-11-18-2014-4049
END:VEVENT

END:VCALENDAR
