BEGIN:VCALENDAR
VERSION:2.0
PRODID:-//ChamberMaster//Event Calendar 2.0//EN
METHOD:PUBLISH
X-PUBLISHED-TTL:P3D
REFRESH-INTERVAL:P3D
CALSCALE:GREGORIAN
BEGIN:VEVENT
DTSTART:20130404T160000Z
DTEND:20130404T170000Z
X-MICROSOFT-CDO-ALLDAYEVENT:FALSE
SUMMARY:Building Blocks for a Successful Business Series 4: "Pass It On: Selling or Transitioning Your Business"
DESCRIPTION:The Law Office of Pattillo\, Richards & Harpold and the Kerrville Area Chamber of Commerce are co-sponsoring an informative educational series\, "Building Blocks for a Successful Business"\, presented by attorney Gregory Richards. Attorney Richards' experience includes representing hundreds of small businesses and small business owners for 18 years.\n\n\n\nSmall business owners interested in learning how to position their business to sell\, or to pass on to the next generation are encouraged to attend. Series 4\, "Pass it On"\, will focus on key issues that business owners need to understand to successfully navigate the sale or merger of their business with a third party\, or the transition of their business to their children or other family members.\n\n\n\nThis seminar is FREE for Chamber members and $15 for potential members. All proceeds from this education series benefit the Chamber of Commerce.\n\n\n\nClick here to download the event flier
X-ALT-DESC;FMTTYPE=text/html:The Law Office of Pattillo\, Richards &amp\; Harpold and the Kerrville Area Chamber of Commerce are co-sponsoring an informative educational series\, &ldquo\;Building Blocks for a Successful Business&rdquo\;\, presented by attorney Gregory Richards. Attorney Richards&rsquo\; experience includes representing hundreds of small businesses and small business owners for 18 years.<br />\n<br />\nSmall business owners interested in learning how to position their business to sell\, or to pass on to the next generation are encouraged to attend. Series 4\, &ldquo\;Pass it On&rdquo\;\, will focus on key issues that business owners need to understand to successfully navigate the sale or merger of their business with a third party\, or the transition of their business to their children or other family members.<br />\n<br />\nThis seminar is FREE for Chamber members and $15 for potential members. All proceeds from this education series benefit the Chamber of Commerce.<br />\n<br />\n<a href="http://cloud.chambermaster.com/userfiles/UserFiles/chambers/1327/File/BusinessBuildingSeriesemailflyer-Series4.pdf">Click here to download the event flier</a><br />\n
LOCATION:Kerrville Area Chamber of Commerce 1700 Sidney Baker\, Ste. 100
UID:e.1327.673
SEQUENCE:3
DTSTAMP:20260419T225312Z
URL:https://business.kerrvillechamber.biz/events/details/building-blocks-for-a-successful-business-series-4-pass-it-on-selling-or-transitioning-your-business-04-04-2013-673
END:VEVENT

END:VCALENDAR
