BEGIN:VCALENDAR
VERSION:2.0
PRODID:-//ChamberMaster//Event Calendar 2.0//EN
METHOD:PUBLISH
X-PUBLISHED-TTL:P3D
REFRESH-INTERVAL:P3D
CALSCALE:GREGORIAN
BEGIN:VEVENT
DTSTART:20130117T231500Z
DTEND:20130118T003000Z
X-MICROSOFT-CDO-ALLDAYEVENT:FALSE
SUMMARY:Business After-Hours Mixer
DESCRIPTION:Business After-Hours Mixer\n\nSponsored by River Point of Kerrville\n\nCome mix & mingle with your chamber friends!\n\nRSVP to 896-1155 or allison@kerrvilletx.com
X-ALT-DESC;FMTTYPE=text/html:Business After-Hours Mixer<br />\nSponsored by River Point of Kerrville<br />\nCome mix &amp\; mingle with your chamber friends!<br />\nRSVP to 896-1155 or <a href="mailto:allison@kerrvilletx.com">allison@kerrvilletx.com</a><br />\n
LOCATION:River Point of Kerrville 1441 Bandera Hwy
UID:e.1327.514
SEQUENCE:3
DTSTAMP:20260420T034840Z
URL:https://business.kerrvillechamber.biz/events/details/business-after-hours-mixer-01-17-2013-514
END:VEVENT

END:VCALENDAR
