BEGIN:VCALENDAR
VERSION:2.0
PRODID:-//ChamberMaster//Event Calendar 2.0//EN
METHOD:PUBLISH
X-PUBLISHED-TTL:P3D
REFRESH-INTERVAL:P3D
CALSCALE:GREGORIAN
BEGIN:VEVENT
DTSTART:20160218T230000Z
DTEND:20160219T003000Z
X-MICROSOFT-CDO-ALLDAYEVENT:FALSE
SUMMARY:Business After Hours Mixer
DESCRIPTION:Kerrville Area Chamber of Commerce After Hours Mixer\n\nSponsored by Out Back Patio Furnishings and  Kerrville Window Fashions
X-ALT-DESC;FMTTYPE=text/html:Kerrville Area Chamber of Commerce After Hours Mixer<br />\nSponsored by Out Back Patio Furnishings and&nbsp\; Kerrville Window Fashions
LOCATION:Out Back Patio Furnishings\, 2104 Memorial Blvd.
UID:e.1327.8196
SEQUENCE:3
DTSTAMP:20260423T002442Z
URL:https://business.kerrvillechamber.biz/events/details/business-after-hours-mixer-02-18-2016-8196
END:VEVENT

END:VCALENDAR
