BEGIN:VCALENDAR
VERSION:2.0
PRODID:-//ChamberMaster//Event Calendar 2.0//EN
METHOD:PUBLISH
X-PUBLISHED-TTL:P3D
REFRESH-INTERVAL:P3D
CALSCALE:GREGORIAN
BEGIN:VEVENT
DTSTART:20130221T231500Z
DTEND:20130222T003000Z
X-MICROSOFT-CDO-ALLDAYEVENT:FALSE
SUMMARY:Business After-Hours Mixer
DESCRIPTION:Sponsored by Our Lady of the Hills Regional Catholic High School\n\n	\n\n	Come mix & mingle with your chamber friends!\n\n	RSVP to 896-1155 or allison@kerrvilletx.com
X-ALT-DESC;FMTTYPE=text/html:<p>\n	Sponsored by Our Lady of the Hills Regional Catholic High School<br />\n	<br />\n	Come mix &amp\; mingle with your chamber friends!<br />\n	RSVP to 896-1155 or <a href="mailto:allison@kerrvilletx.com"><u>allison@kerrvilletx.com</u></a></p>\n
LOCATION:Our Lady of the Hills Regional Catholic High School - 235 Peterson Farm Rd.
UID:e.1327.515
SEQUENCE:3
DTSTAMP:20260420T021238Z
URL:https://business.kerrvillechamber.biz/events/details/business-after-hours-mixer-02-21-2013-515
END:VEVENT

END:VCALENDAR
