BEGIN:VCALENDAR
VERSION:2.0
PRODID:-//ChamberMaster//Event Calendar 2.0//EN
METHOD:PUBLISH
X-PUBLISHED-TTL:P3D
REFRESH-INTERVAL:P3D
CALSCALE:GREGORIAN
BEGIN:VEVENT
DTSTART:20130509T221500Z
DTEND:20130509T233000Z
X-MICROSOFT-CDO-ALLDAYEVENT:FALSE
SUMMARY:Business After-Hours Mixer
DESCRIPTION:Come & Mix & Mingle with your Chamber Friends!\n\nNetworking Opportunities\, Door Prizes\, Cash Jackpot Drawing\, & More!
X-ALT-DESC;FMTTYPE=text/html:Come &amp\; Mix &amp\; Mingle with your Chamber Friends!<br />\nNetworking Opportunities\, Door Prizes\, Cash Jackpot Drawing\, &amp\; More!<br />\n
LOCATION:Sponsored by & held at Roberts Auto Sales NEW West Location 1918 Junction Highway
UID:e.1327.535
SEQUENCE:3
DTSTAMP:20260419T213347Z
URL:https://business.kerrvillechamber.biz/events/details/business-after-hours-mixer-05-09-2013-535
END:VEVENT

END:VCALENDAR
