BEGIN:VCALENDAR
VERSION:2.0
PRODID:-//ChamberMaster//Event Calendar 2.0//EN
METHOD:PUBLISH
X-PUBLISHED-TTL:P3D
REFRESH-INTERVAL:P3D
CALSCALE:GREGORIAN
BEGIN:VEVENT
DTSTART:20130620T221500Z
DTEND:20130620T233000Z
X-MICROSOFT-CDO-ALLDAYEVENT:FALSE
SUMMARY:Business After-Hours Mixer
DESCRIPTION:Come & Mix & Mingle with your Chamber Friends!\n\nNetworking Opportunities\, Door Prizes\, Cash Jackpot Drawing\, & More!
X-ALT-DESC;FMTTYPE=text/html:Come &amp\; Mix &amp\; Mingle with your Chamber Friends!<br />\nNetworking Opportunities\, Door Prizes\, Cash Jackpot Drawing\, &amp\; More!<br />\n
LOCATION:Held at LeMeilleur's RV\, Truck & Equipment Repair Corp Sponsored by LeMeilleur's RV Truck & Equipment Repair Corp & NAPA Auto Parts 500 Yorktown Blvd
UID:e.1327.523
SEQUENCE:3
DTSTAMP:20260419T213320Z
URL:https://business.kerrvillechamber.biz/events/details/business-after-hours-mixer-06-20-2013-523
END:VEVENT

END:VCALENDAR
