BEGIN:VCALENDAR
VERSION:2.0
PRODID:-//ChamberMaster//Event Calendar 2.0//EN
METHOD:PUBLISH
X-PUBLISHED-TTL:P3D
REFRESH-INTERVAL:P3D
CALSCALE:GREGORIAN
BEGIN:VEVENT
DTSTART:20130718T221500Z
DTEND:20130718T233000Z
X-MICROSOFT-CDO-ALLDAYEVENT:FALSE
SUMMARY:Business After-Hours Mixer
DESCRIPTION:Come Mix & Mingle with your Chamber Friends!\n\nNetworking Opportunities\, Cash Jackpot\, Door Prizes\, Drinks & More!
X-ALT-DESC;FMTTYPE=text/html:<span style="font-family:times new roman\;">Come Mix &amp\; Mingle with your Chamber Friends!<br />\nNetworking Opportunities\, Cash Jackpot\, Door Prizes\, Drinks &amp\; More!</span>
LOCATION:The Ridge 13439 S. Ranch Road 783 (Off Harper Rd at the entrance of Tierra Linda)
UID:e.1327.524
SEQUENCE:3
DTSTAMP:20260419T181552Z
URL:https://business.kerrvillechamber.biz/events/details/business-after-hours-mixer-07-18-2013-524
END:VEVENT

END:VCALENDAR
