BEGIN:VCALENDAR
VERSION:2.0
PRODID:-//ChamberMaster//Event Calendar 2.0//EN
METHOD:PUBLISH
X-PUBLISHED-TTL:P3D
REFRESH-INTERVAL:P3D
CALSCALE:GREGORIAN
BEGIN:VEVENT
DTSTART:20160721T220000Z
DTEND:20160721T233000Z
X-MICROSOFT-CDO-ALLDAYEVENT:FALSE
SUMMARY:Business After Hours Mixer
DESCRIPTION:Kerrville Area Chamber of Commerce After Hours Mixer - Hosted by Destination CycleSports
X-ALT-DESC;FMTTYPE=text/html:Kerrville Area Chamber of Commerce After Hours Mixer - Hosted by Destination CycleSports
LOCATION:Destination CycleSports\, 3341-A Loop 534
UID:e.1327.9217
SEQUENCE:3
DTSTAMP:20260422T155806Z
URL:https://business.kerrvillechamber.biz/events/details/business-after-hours-mixer-07-21-2016-9217
END:VEVENT

END:VCALENDAR
