BEGIN:VCALENDAR
VERSION:2.0
PRODID:-//ChamberMaster//Event Calendar 2.0//EN
METHOD:PUBLISH
X-PUBLISHED-TTL:P3D
REFRESH-INTERVAL:P3D
CALSCALE:GREGORIAN
BEGIN:VEVENT
DTSTART:20130815T221500Z
DTEND:20130815T233000Z
X-MICROSOFT-CDO-ALLDAYEVENT:FALSE
SUMMARY:Business After-Hours Mixer
DESCRIPTION:Come Mix & Mingle with your Chamber Friends!\n\nNetworking Opportunities\, Cash Jackpot\, Door Prizes\, Drinks & More!
X-ALT-DESC;FMTTYPE=text/html:Come Mix &amp\; Mingle with your Chamber Friends!<br />\nNetworking Opportunities\, Cash Jackpot\, Door Prizes\, Drinks &amp\; More!
LOCATION:Moore's Home Furnishings 120 Harper Road
UID:e.1327.525
SEQUENCE:3
DTSTAMP:20260419T164804Z
URL:https://business.kerrvillechamber.biz/events/details/business-after-hours-mixer-08-15-2013-525
END:VEVENT

END:VCALENDAR
