BEGIN:VCALENDAR
VERSION:2.0
PRODID:-//ChamberMaster//Event Calendar 2.0//EN
METHOD:PUBLISH
X-PUBLISHED-TTL:P3D
REFRESH-INTERVAL:P3D
CALSCALE:GREGORIAN
BEGIN:VEVENT
DTSTART:20131017T221500Z
DTEND:20131017T233000Z
X-MICROSOFT-CDO-ALLDAYEVENT:FALSE
SUMMARY:Business After-Hours Mixer
DESCRIPTION:Sponsored by Historic Downtown Business Alliance\, Kerr Arts & Cultural Center Inc. & Kerrville Convention & Visitors Bureau\n\n\n\nHeld at the Kerr Arts & Cultural Center\, Inc.\, 228 Earl Garrett\n\n\n\nCome & Mix & Mingle with your Chamber Friends!\n\nFood\, Drinks\, Cash Jackpot Drawing\, Door Prizes & More!\n\nDoor Prizes are always needed and welcomed!
X-ALT-DESC;FMTTYPE=text/html:Sponsored by Historic Downtown Business Alliance\, Kerr Arts &amp\; Cultural Center Inc. &amp\; Kerrville Convention &amp\; Visitors Bureau<br />\n<br />\nHeld at the Kerr Arts &amp\; Cultural Center\, Inc.\, 228 Earl Garrett<br />\n<br />\nCome &amp\; Mix &amp\; Mingle with your Chamber Friends!<br />\nFood\, Drinks\, Cash Jackpot Drawing\, Door Prizes &amp\; More!<br />\nDoor Prizes are always needed and welcomed!
LOCATION:
UID:e.1327.538
SEQUENCE:3
DTSTAMP:20260419T132653Z
URL:https://business.kerrvillechamber.biz/events/details/business-after-hours-mixer-10-17-2013-538
END:VEVENT

END:VCALENDAR
