BEGIN:VCALENDAR
VERSION:2.0
PRODID:-//ChamberMaster//Event Calendar 2.0//EN
METHOD:PUBLISH
X-PUBLISHED-TTL:P3D
REFRESH-INTERVAL:P3D
CALSCALE:GREGORIAN
BEGIN:VEVENT
DTSTART:20131121T231500Z
DTEND:20131122T003000Z
X-MICROSOFT-CDO-ALLDAYEVENT:FALSE
SUMMARY:Business After-Hours Mixer
DESCRIPTION:Come Mix & Mingle with your Chamber Friends!\n\nNetworking Opportunities\, Cash Jackpot Drawing\, Door Prizes\, Drinks & More!
X-ALT-DESC;FMTTYPE=text/html:Come Mix &amp\;&nbsp\;Mingle with your Chamber Friends!<br />\nNetworking Opportunities\, Cash Jackpot Drawing\, Door Prizes\, Drinks &amp\; More!
LOCATION:Sponsored by Victorious Walk Ministries Held at the YO Resort & Conference Center
UID:e.1327.528
SEQUENCE:3
DTSTAMP:20260419T132651Z
URL:https://business.kerrvillechamber.biz/events/details/business-after-hours-mixer-11-21-2013-528
END:VEVENT

END:VCALENDAR
