BEGIN:VCALENDAR
VERSION:2.0
PRODID:-//ChamberMaster//Event Calendar 2.0//EN
METHOD:PUBLISH
X-PUBLISHED-TTL:P3D
REFRESH-INTERVAL:P3D
CALSCALE:GREGORIAN
BEGIN:VEVENT
DTSTART:20130620T180000Z
DTEND:20130620T183000Z
X-MICROSOFT-CDO-ALLDAYEVENT:FALSE
SUMMARY:Cailloux Humane Society "Pick of the Litter" Resale Shop Ribbon Cutting
DESCRIPTION:Cailloux Humane Society "Pick of the Litter" Resale Shop Ribbon Cutting \n\n2900 Junction Hwy \n\nThursday\, June 20th 1:00 pm
X-ALT-DESC;FMTTYPE=text/html:<span style="font-family:times new roman\,serif\;">Cailloux Humane Society &quot\;Pick of the Litter&quot\; Resale Shop Ribbon Cutting </span><br />\n<span style="font-family:times new roman\,serif\;">2900 Junction Hwy </span><br />\n<span style="font-family:times new roman\,serif\;">Thursday\, June 20<sup>th</sup> 1:00 pm</span><br />\n
LOCATION:
UID:e.1327.932
SEQUENCE:3
DTSTAMP:20260419T213931Z
URL:https://business.kerrvillechamber.biz/events/details/cailloux-humane-society-pick-of-the-litter-resale-shop-ribbon-cutting-06-20-2013-932
END:VEVENT

END:VCALENDAR
