BEGIN:VCALENDAR
VERSION:2.0
PRODID:-//ChamberMaster//Event Calendar 2.0//EN
METHOD:PUBLISH
X-PUBLISHED-TTL:P3D
REFRESH-INTERVAL:P3D
CALSCALE:GREGORIAN
BEGIN:VEVENT
DTSTART:20131005T160000Z
DTEND:20131006T020000Z
X-MICROSOFT-CDO-ALLDAYEVENT:FALSE
SUMMARY:Cajun Fest - Gumbo Cook-Off
DESCRIPTION:Cajun Fest - Gumbo Cook-Off\n\nBenefiting abused and orphaned children of Hill Country Youth Ranch\n\nPresenting Montgomery Rain and Andy Barham\n\nAdmission includes entrance into concert and gumbo\n\nKids activities\n\nHunters Raffle\n\nCook-Off participants wanted.\n\nFor more information check out www.thehuntstore.com
X-ALT-DESC;FMTTYPE=text/html:Cajun Fest - Gumbo Cook-Off<br />\nBenefiting abused and orphaned children of Hill Country Youth Ranch<br />\nPresenting Montgomery Rain and Andy Barham<br />\nAdmission includes entrance into concert and gumbo<br />\nKids activities<br />\nHunters Raffle<br />\nCook-Off participants wanted.<br />\nFor more information check out www.thehuntstore.com<br />\n
LOCATION:The Hunt Store
UID:e.1327.1354
SEQUENCE:3
DTSTAMP:20260419T145939Z
URL:https://business.kerrvillechamber.biz/events/details/cajun-fest-gumbo-cook-off-10-05-2013-1354
END:VEVENT

END:VCALENDAR
