BEGIN:VCALENDAR
VERSION:2.0
PRODID:-//ChamberMaster//Event Calendar 2.0//EN
METHOD:PUBLISH
X-PUBLISHED-TTL:P3D
REFRESH-INTERVAL:P3D
CALSCALE:GREGORIAN
BEGIN:VEVENT
DTSTART;VALUE=DATE:20130830
DTEND;VALUE=DATE:20130902
TRANSP:TRANSPARENT
X-MICROSOFT-CDO-ALLDAYEVENT:TRUE
SUMMARY:Camp Eagle Classic Mountain Bike Fest
DESCRIPTION:TX Championship Downhill\, cross country\, Rockclimbing\, kids races\, zip-line\,  \n\n			swimming\, water toys & many other fun activities. For additional information  \n\n			please call 830-896-6864 or visit http://www.tmbra.org. \n	\n	\n		\n			Camp Eagle\, Rocksprings
X-ALT-DESC;FMTTYPE=text/html:<div style="color: gray">\n	<div class="OutlineElement Ltr SCX99040391" style="text-indent: 0px\; margin-left: 0px">\n		<p class="Paragraph SCX99040391" paraeid="{300447d0-31b2-4229-82df-9a92c9155f1a}{73}" paraid="505908590" style="text-align: left\; background-color: transparent\; font-style: normal\; text-indent: 0px\; font-family: 'Segoe UI'\, Tahoma\, Verdana\, 'Sans-Serif'\; color: windowtext\; font-size: 6pt\; vertical-align: baseline\; font-weight: normal">\n			<span class="TextRun SCX99040391" style="line-height: 19px\; font-style: italic\; font-family: Cambria\, Serif\; font-size: 12pt" xml:lang="EN-US"><span class="NormalTextRun SCX99040391" style="background-color: inherit">TX Championship Downhill\, cross country\, </span><span class="SpellingError SCX99040391" style="background-color: inherit">Rockclimbing</span><span class="NormalTextRun SCX99040391" style="background-color: inherit">\, kids races\, zip-line\, </span></span><span class="LineBreakBlob BlobObject SCX99040391" style="line-height: 19px\; font-family: Cambria\, Serif\; font-size: 12pt"><span class="SCX99040391">&nbsp\;</span></span><br class="SCX99040391" />\n			<span class="TextRun SCX99040391" style="line-height: 19px\; font-style: italic\; font-family: Cambria\, Serif\; font-size: 12pt" xml:lang="EN-US"><span class="NormalTextRun SCX99040391" style="background-color: inherit">swimming\, water toys &amp\; many other fun activities. For additional information </span></span><span class="LineBreakBlob BlobObject SCX99040391" style="line-height: 19px\; font-family: Cambria\, Serif\; font-size: 12pt"><span class="SCX99040391">&nbsp\;</span></span><br class="SCX99040391" />\n			<span class="TextRun SCX99040391" style="line-height: 19px\; font-style: italic\; font-family: Cambria\, Serif\; font-size: 12pt" xml:lang="EN-US"><span class="NormalTextRun SCX99040391" style="background-color: inherit">please call 830-896-6864 or visit </span></span><a class="Hyperlink SCX99040391" href="http://www.tmbra.org/" style="text-decoration: none"><span class="TextRun Underlined SCX99040391" style="line-height: 19px\; font-style: italic\; font-family: Cambria\, Serif\; color: #0000ff\; font-size: 12pt\; text-decoration: underline" xml:lang="EN-US"><span class="NormalTextRun SCX99040391" style="background-color: inherit">http://www.tmbra.org</span></span></a><span class="TextRun SCX99040391" style="line-height: 19px\; font-style: italic\; font-family: Cambria\, Serif\; font-size: 12pt" xml:lang="EN-US"><span class="NormalTextRun SCX99040391" style="background-color: inherit">.</span></span><span class="EOP SCX99040391" style="line-height: 19px\; font-family: Cambria\, Serif\; font-size: 12pt">&nbsp\;</span></p>\n	</div>\n	<div class="OutlineElement Ltr SCX99040391" style="text-indent: 0px\; margin-left: 0px">\n		<p class="Paragraph SCX99040391" paraeid="{300447d0-31b2-4229-82df-9a92c9155f1a}{76}" paraid="1221951268" style="text-align: left\; background-color: transparent\; font-style: normal\; text-indent: 0px\; font-family: 'Segoe UI'\, Tahoma\, Verdana\, 'Sans-Serif'\; color: windowtext\; font-size: 6pt\; vertical-align: baseline\; font-weight: normal">\n			<span class="TextRun SCX99040391" style="line-height: 19px\; font-style: italic\; font-family: Cambria\, Serif\; font-size: 12pt" xml:lang="EN-US"><span class="NormalTextRun SCX99040391" style="background-color: inherit">Camp Eagle\, Rocksprings</span></span><span class="EOP SCX99040391" style="line-height: 19px\; font-family: Cambria\, Serif\; font-size: 12pt">&nbsp\;</span></p>\n	</div>\n</div>\n<br />\n
LOCATION:
UID:e.1327.1014
SEQUENCE:3
DTSTAMP:20260419T151313Z
URL:https://business.kerrvillechamber.biz/events/details/camp-eagle-classic-mountain-bike-fest-08-30-2013-1014
END:VEVENT

END:VCALENDAR
