BEGIN:VCALENDAR
VERSION:2.0
PRODID:-//ChamberMaster//Event Calendar 2.0//EN
METHOD:PUBLISH
X-PUBLISHED-TTL:P3D
REFRESH-INTERVAL:P3D
CALSCALE:GREGORIAN
BEGIN:VEVENT
DTSTART:20150409T223000Z
DTEND:20150410T003000Z
X-MICROSOFT-CDO-ALLDAYEVENT:FALSE
SUMMARY:Candidate Forum
DESCRIPTION:The Kerrville Area Chamber of Commerce is pleased to offer a candidate forum for the City of Kerrville Council candidates
X-ALT-DESC;FMTTYPE=text/html:The Kerrville Area Chamber of Commerce is pleased to offer a candidate forum for the City of Kerrville Council candidates
LOCATION:Floyd & Kathleen Cailloux Campus Activity Center at Schreiner University campus
UID:e.1327.4453
SEQUENCE:3
DTSTAMP:20260423T200837Z
URL:https://business.kerrvillechamber.biz/events/details/candidate-forum-04-09-2015-4453
END:VEVENT

END:VCALENDAR
