BEGIN:VCALENDAR
VERSION:2.0
PRODID:-//ChamberMaster//Event Calendar 2.0//EN
METHOD:PUBLISH
X-PUBLISHED-TTL:P3D
REFRESH-INTERVAL:P3D
CALSCALE:GREGORIAN
BEGIN:VEVENT
DTSTART:20130409T163000Z
DTEND:20130409T180000Z
X-MICROSOFT-CDO-ALLDAYEVENT:FALSE
SUMMARY:Champions of Education Luncheon
DESCRIPTION:Families & Literacy is holding its inaugural "Champions of Education" luncheon at Riverhill Country Club on Tuesday\, April 9 from 11:30 1 pm.  \n\n \n\nThe keynote speaker will be Dr. Bill Blackburn.  A short video by Aaron Yates of Texas Pro Sound and Video showcasing the work of the organization\, its volunteers\, and students will be shown.  \n\n \n\nFamilies & Literacy offers adult education classes including preparatory courses for the General Education Development (GED)\, Adult Basic Education (ABE)\, English as a Second Language (ESL)\, citizenship preparation\, and parenting classes\, Love and Logic and For Kids' Sake.\n\n \n\nRSVP attendance to 830-896-9688 or email famandlit1@hctc.net by April 1\, 2013.
X-ALT-DESC;FMTTYPE=text/html:<span style="font-size: medium\;"><span style="font-family: times new roman\;">Families &amp\; Literacy is holding its inaugural &ldquo\;Champions of Education&rdquo\; luncheon at Riverhill Country Club on Tuesday\, April 9 from 11:30&mdash\;1 pm.&nbsp\; </span></span><br />\n&nbsp\;<br />\n<span style="font-size: medium\;"><span style="font-family: times new roman\;">The keynote speaker will be Dr. Bill Blackburn.&nbsp\; A short video by Aaron Yates of Texas Pro Sound and Video showcasing the work of the organization\, its volunteers\, and students will be shown.&nbsp\; </span></span><br />\n&nbsp\;<br />\n<span style="font-size: medium\;"><span style="font-family: times new roman\;">Families &amp\; Literacy offers adult education classes including preparatory courses for the General Education Development (GED)\, Adult Basic Education (ABE)\, English as a Second Language (ESL)\, citizenship preparation\, and parenting classes\, <em>Love and Logic </em>and<em> For Kids&rsquo\; Sake.</em></span></span><br />\n&nbsp\;<br />\n<span style="font-size: medium\;"><span style="font-family: times new roman\;">RSVP attendance to 830-896-9688 or email </span></span><a href="mailto:famandlit1@hctc.net"><span style="font-size: medium\;"><span style="font-family: times new roman\;"><span style="color: rgb(0\, 0\, 255)\;">famandlit1@hctc.net</span></span></span></a><span style="font-size: medium\;"><span style="font-family: times new roman\;"> by April 1\, 2013.&nbsp\;&nbsp\;&nbsp\;&nbsp\;&nbsp\;&nbsp\;&nbsp\;&nbsp\;&nbsp\;&nbsp\; </span></span><br />\n
LOCATION:
UID:e.1327.691
SEQUENCE:3
DTSTAMP:20260419T231410Z
URL:https://business.kerrvillechamber.biz/events/details/champions-of-education-luncheon-04-09-2013-691
END:VEVENT

END:VCALENDAR
