BEGIN:VCALENDAR
VERSION:2.0
PRODID:-//ChamberMaster//Event Calendar 2.0//EN
METHOD:PUBLISH
X-PUBLISHED-TTL:P3D
REFRESH-INTERVAL:P3D
CALSCALE:GREGORIAN
BEGIN:VEVENT
DTSTART:20130227T170000Z
DTEND:20130228T040000Z
X-MICROSOFT-CDO-ALLDAYEVENT:FALSE
SUMMARY:Chilis Give Back Night for Kerrville Firefighters Association
DESCRIPTION:With each flyer presented on Kerrville Fire Fighter's Association night Chili's will donate 10% of the sales you bring in to your organization. Let us do the cooking and support Kerrville Firefighter's Association at the same time!\n\n	Click the link below to download the flyer!\n\n	 \n\n	http://cloud.chambermaster.com/userfiles/UserFiles/chambers/1327/File/ChilisFireFightersAssoc..pdf
X-ALT-DESC;FMTTYPE=text/html:<p align="left">\n	<span style="font-size: 12px"><b><font face="Write-Bold_Cond"><font face="Write-Bold_Cond">With each flyer presented on </font></font></b></span><span style="font-size: 12px"><b><font face="Write-Bold_Cond"><font face="Write-Bold_Cond">Kerrville Fire Fighter&#39\;s Association </font></font></b></span><span style="font-size: 12px"><b><font face="Write-Bold_Cond"><font face="Write-Bold_Cond">night Chili&#39\;s will donate 10% of the sales you bring in to your organization. Let </font></font></b></span><span style="font-size: 12px"><b><font face="Write-Bold_Cond"><font face="Write-Bold_Cond">us do the cooking and support Kerrville </font></font></b></span><span style="font-size: 12px"><b><font face="Write-Bold_Cond"><font face="Write-Bold_Cond">Firefighter&#39\;s </font></font></b></span><span style="font-size: 12px"><b><font face="Write-Bold_Cond"><font face="Write-Bold_Cond">Association</font></font></b></span><span style="font-size: 12px"><b><font face="Write-Bold_Cond"><font face="Write-Bold_Cond"> at the same time!</font></font></b></span></p>\n<p align="left">\n	<span style="font-size: 12px"><strong>Click the link below to download the flyer!</strong></span><br />\n	&nbsp\;<br />\n	<a href="http://cloud.chambermaster.com/userfiles/UserFiles/chambers/1327/File/ChilisFireFightersAssoc..pdf">http://cloud.chambermaster.com/userfiles/UserFiles/chambers/1327/File/ChilisFireFightersAssoc..pdf</a><br />\n	&nbsp\;</p>\n
LOCATION:Chili's - Kerrville 1185 Junction Hwy. - Kerrville\, TX 78028 830-895-2445 - www.chilis.com
UID:e.1327.606
SEQUENCE:3
DTSTAMP:20260420T021459Z
URL:https://business.kerrvillechamber.biz/events/details/chilis-give-back-night-for-kerrville-firefighters-association-02-27-2013-606
END:VEVENT

END:VCALENDAR
