BEGIN:VCALENDAR
VERSION:2.0
PRODID:-//ChamberMaster//Event Calendar 2.0//EN
METHOD:PUBLISH
X-PUBLISHED-TTL:P3D
REFRESH-INTERVAL:P3D
CALSCALE:GREGORIAN
BEGIN:VEVENT
DTSTART:20130713T210000Z
DTEND:20130714T030000Z
X-MICROSOFT-CDO-ALLDAYEVENT:FALSE
SUMMARY:CHRISTMAS IN JULY
DESCRIPTION:Food\, Fun and Live Music\, all for a good cause - Benefitting the children of Hill Country Youth Ranch. Serving abused children since 1977.  All proceeds will go towards making the children of HCYR Christmas extra special this year!
X-ALT-DESC;FMTTYPE=text/html:Food\, Fun and Live Music\, all for a good cause&nbsp\;- Benefitting the children of Hill Country Youth Ranch. Serving abused children since 1977.&nbsp\; All proceeds will go towards making&nbsp\;the children of HCYR Christmas extra special this year! 
LOCATION:Grape Juice
UID:e.1327.983
SEQUENCE:3
DTSTAMP:20260419T181551Z
URL:https://business.kerrvillechamber.biz/events/details/christmas-in-july-07-13-2013-983
END:VEVENT

END:VCALENDAR
