BEGIN:VCALENDAR
VERSION:2.0
PRODID:-//ChamberMaster//Event Calendar 2.0//EN
METHOD:PUBLISH
X-PUBLISHED-TTL:P3D
REFRESH-INTERVAL:P3D
CALSCALE:GREGORIAN
BEGIN:VEVENT
DTSTART:20160202T140000Z
DTEND:20160202T150000Z
X-MICROSOFT-CDO-ALLDAYEVENT:FALSE
SUMMARY:Coffee Talk
DESCRIPTION:Speaker for this month's coffee talk is Jennifer Latiolais\, Marketing Coordinator for All-Plastics.  A few ideas presented will be\n\n*How to Profit from Linkedin\n\n*Using Linkedin to drive profits\n\n*Selling Yourself on Linkedin
X-ALT-DESC;FMTTYPE=text/html:Speaker for this month&#39\;s coffee talk is Jennifer Latiolais\, Marketing Coordinator for All-Plastics.&nbsp\; A few ideas presented will be<br />\n*How to Profit from Linkedin<br />\n*Using Linkedin to drive profits<br />\n*Selling&nbsp\;Yourself on Linkedin&nbsp\;
LOCATION:Kerrville Area Chamber of Commerce\, 1700 Sidney Baker\, Ste. 100
UID:e.1327.6670
SEQUENCE:3
DTSTAMP:20260423T002134Z
URL:https://business.kerrvillechamber.biz/events/details/coffee-talk-02-02-2016-6670
END:VEVENT

END:VCALENDAR
