BEGIN:VCALENDAR
VERSION:2.0
PRODID:-//ChamberMaster//Event Calendar 2.0//EN
METHOD:PUBLISH
X-PUBLISHED-TTL:P3D
REFRESH-INTERVAL:P3D
CALSCALE:GREGORIAN
BEGIN:VEVENT
DTSTART:20150203T140000Z
DTEND:20150203T150000Z
X-MICROSOFT-CDO-ALLDAYEVENT:FALSE
SUMMARY:Coffee Talk
DESCRIPTION:Coffee Talk
X-ALT-DESC;FMTTYPE=text/html:Coffee Talk
LOCATION:Kerrville Area Chamber of Commerce\, 1700 Sidney Baker\, Ste. 100
UID:e.1327.4353
SEQUENCE:3
DTSTAMP:20260423T233553Z
URL:https://business.kerrvillechamber.biz/events/details/coffee-talk-02-03-2015-4353
END:VEVENT

END:VCALENDAR
