BEGIN:VCALENDAR
VERSION:2.0
PRODID:-//ChamberMaster//Event Calendar 2.0//EN
METHOD:PUBLISH
X-PUBLISHED-TTL:P3D
REFRESH-INTERVAL:P3D
CALSCALE:GREGORIAN
BEGIN:VEVENT
DTSTART:20150303T140000Z
DTEND:20150303T150000Z
X-MICROSOFT-CDO-ALLDAYEVENT:FALSE
SUMMARY:Coffee Talk
DESCRIPTION:Coffee Talk\, Small Business Tax Returns.  Pam Taylor with PST Bookkeeping and Tax Services\, LLC will discuss Write-Offs\, Home Offices\, Tax Shelters
X-ALT-DESC;FMTTYPE=text/html:Coffee Talk\, Small Business Tax Returns.&nbsp\; Pam Taylor with PST Bookkeeping and Tax Services\, LLC will discuss Write-Offs\, Home Offices\, Tax Shelters
LOCATION:Kerrville Area Chamber of Commerce\, 1700 Sidney Baker\, Ste. 100
UID:e.1327.4354
SEQUENCE:3
DTSTAMP:20260423T215614Z
URL:https://business.kerrvillechamber.biz/events/details/coffee-talk-03-03-2015-4354
END:VEVENT

END:VCALENDAR
